BEGIN:VCALENDAR
VERSION:2.0
PRODID:-//DJ Rainflow - ECPv6.15.20//NONSGML v1.0//EN
CALSCALE:GREGORIAN
METHOD:PUBLISH
X-ORIGINAL-URL:https://new.velvetcode.com
X-WR-CALDESC:Events for DJ Rainflow
REFRESH-INTERVAL;VALUE=DURATION:PT1H
X-Robots-Tag:noindex
X-PUBLISHED-TTL:PT1H
BEGIN:VTIMEZONE
TZID:UTC
BEGIN:STANDARD
TZOFFSETFROM:+0000
TZOFFSETTO:+0000
TZNAME:UTC
DTSTART:20260101T000000
END:STANDARD
END:VTIMEZONE
BEGIN:VEVENT
DTSTART;TZID=UTC:20270402T080000
DTEND;TZID=UTC:20270403T170000
DTSTAMP:20260422T225249
CREATED:20230703T063533Z
LAST-MODIFIED:20260415T065811Z
UID:919-1806652800-1806771600@new.velvetcode.com
SUMMARY:TBA
DESCRIPTION:At elementum lorem purus elit\, in nulla lacinia. Phasellus ac\, tortor vestibulum nibh nam sit laoreet\, conubia adipiscing massa orci nec nunc neque\, ipsum laoreet praesent ultricies magna ligula ante\, augue justo et viverra in neque. Porta eu auctor nisl tempor at\, metus varius scelerisque\, wisi sodales accumsan ut scelerisque in vestibulum. Ipsum nulla sed luctus montes amet\, velit vestibulum diam at elit\, amet condimentum tellus dis imperdiet nibh\, metus magna sem tempor amet sed. Odio massa non\, aliquam consequatur fermentum vel nunc\, egestas nulla ultricies phasellus sem sodales\, vehicula facilisis lacinia\, cupidatat fusce sed felis. Pede nec velit pellentesque pulvinar tristique adipiscing\, et fusce id at excepturi enim\, velit at pede dictumst nisl enim\, lobortis egestas fusce euismod nisl convallis\, proin consequat in metus in. Sem ac eu vestibulum\, nunc mauris etiam\, aliquam vitae cras leo vel velit erat. Purus posuere placerat lacus\, enim at ad lectus nulla non nisl\, volutpat in dolor semper labore ac. Quis vivamus odio neque at vehicula velit\, in porttitor sed lacus tincidunt. Quam nec cras\, duis hendrerit nunc amet in lectus\, integer phasellus\, sit quam felis\, optio eros nullam integer curabitur nunc. Ut at suspendisse aenean\, pellentesque sollicitudin\, duis id. Varius vel\, dignissim vitae.
URL:https://new.velvetcode.com/event/tba-3/
LOCATION:TBA\, Porto\, Portugal
END:VEVENT
BEGIN:VEVENT
DTSTART;VALUE=DATE:20271125
DTEND;VALUE=DATE:20271127
DTSTAMP:20260422T225249
CREATED:20230703T064201Z
LAST-MODIFIED:20260415T065943Z
UID:927-1827100800-1827273599@new.velvetcode.com
SUMMARY:Boiler Room  Philadelphia
DESCRIPTION:Pellentesque mi. Urna odit eleifend magna et\, sem wisi ipsum cras porttitor purus odio\, vestibulum imperdiet\, a eget egestas ut donec. Ultricies euismod at\, montes ut viverra gravida at nam in\, laoreet sollicitudin\, urna ultricies nunc elit amet orci. Sed proin at lacinia\, tincidunt lorem taciti et habitant curabitur\, iaculis justo nunc\, erat vulputate accumsan turpis lectus erat. In mauris lacinia justo\, leo sed nec sapien ut\, id ducimus. Eget urna amet est\, praesent diam integer\, molestie viverra\, vivamus velit sodales. Curabitur sapien tempus maecenas mi\, molestie laborum lacus\, elementum iaculis euismod\, sit vel suspendisse\, adipiscing nam quam suscipit. Ullamcorper placeat vivamus\, tincidunt fringilla a et quisque\, nec quis venenatis\, vivamus augue maecenas vitae enim labore. In congue fermentum pretium erat sit id\, elit ornare malesuada pulvinar dui suspendisse\, a tellus mattis tortor non.
URL:https://new.velvetcode.com/event/boiler-room-philadelphia/
LOCATION:Techno Club\, Berlin\, Germany
CATEGORIES:DJ
END:VEVENT
BEGIN:VEVENT
DTSTART;VALUE=DATE:20271230
DTEND;VALUE=DATE:20280106
DTSTAMP:20260422T225249
CREATED:20230703T064315Z
LAST-MODIFIED:20260415T070003Z
UID:929-1830124800-1830729599@new.velvetcode.com
SUMMARY:Bubble Charlotte
DESCRIPTION:Pellentesque mi. Urna odit eleifend magna et\, sem wisi ipsum cras porttitor purus odio\, vestibulum imperdiet\, a eget egestas ut donec. Ultricies euismod at\, montes ut viverra gravida at nam in\, laoreet sollicitudin\, urna ultricies nunc elit amet orci. Sed proin at lacinia\, tincidunt lorem taciti et habitant curabitur\, iaculis justo nunc\, erat vulputate accumsan turpis lectus erat. In mauris lacinia justo\, leo sed nec sapien ut\, id ducimus. Eget urna amet est\, praesent diam integer\, molestie viverra\, vivamus velit sodales. Curabitur sapien tempus maecenas mi\, molestie laborum lacus\, elementum iaculis euismod\, sit vel suspendisse\, adipiscing nam quam suscipit. Ullamcorper placeat vivamus\, tincidunt fringilla a et quisque\, nec quis venenatis\, vivamus augue maecenas vitae enim labore. In congue fermentum pretium erat sit id\, elit ornare malesuada pulvinar dui suspendisse\, a tellus mattis tortor non.
URL:https://new.velvetcode.com/event/bubble-charlotte/
LOCATION:Bubble Bar\, Miami\, United States
CATEGORIES:DJ
END:VEVENT
END:VCALENDAR